BEGIN:VCALENDAR
VERSION:2.0
PRODID:-//hacksw/handcal//NONSGML v1.0//EN
CALSCALE:GREGORIAN
BEGIN:VEVENT
LOCATION:Online
DESCRIPTION:Ta-Daan: reshaping and craftsmanship
DTSTART:20221129T143000
DTEND:20221129T163000
SUMMARY:TA-DAAN è una startup italiana con un team tutto al femminile con l’obiettivo di far scoprire e conoscere l’artigianato di qualità al grande pubblico.

Infatti\\, partendo da media company e community sui social di oltre 200K follower\\, è oggi un e-commerce orientato a promuovere un consumo più consapevole e ad aiutare i creativi a vendere e far crescere le loro piccole imprese. Su ta-daan-shop.com si trova una curata selezione di prodotti artigianali europei\\, che spaziano dagli accessori moda all’home décor. Ognuno di questi ha l’imprescindibile “TA-DAAN factor”: è fatto a mano\\, contemporaneo\\, cool e sostenibile.

Una delle founder\\, Costanza Tomba\\, ci racconterà come è nata l’idea\\, come si è sviluppata e quali sono le possibilità di mercato future che Ta-Daan sta esplorando
DTSTAMP:20260420T143555
UID:69e639cbe0c3f
END:VEVENT
END:VCALENDAR