BEGIN:VCALENDAR
VERSION:2.0
PRODID:-//hacksw/handcal//NONSGML v1.0//EN
CALSCALE:GREGORIAN
BEGIN:VEVENT
LOCATION:U6-06
DESCRIPTION:Avviare una startup nel 2024 in Italia
DTSTART:20241205T143000
DTEND:20241205T163000
SUMMARY:In questo primo evento organizzato in collaborazione con l\'associazione studentesca e-Club Ventures\\, da poco presente anche in Bicocca\\, abbiamo l\'opportunità di conoscere Nicola Mei.

Nicola racconterà alcuni passi fondamentali di questi suoi anni da imprenditore\\, le insidie\\, le difficoltà e le bellezze dell’intraprendere questa via professionale. Dai primi passi\\, alla gestione di diverse situazioni che nel corso del tempo ha dovuto affrontare. L’intervento sarà impostato a conversazione\\, ci sarà quindi ampissimo spazio per domande e confronti con Nicola. Non sarà un semplice monologo autoreferenziale\\, ma vuole essere un momento di scambio tra Nicola e chiunque abbia qualsiasi dubbio o curiosità o voglia approfittarne per approfondire alcune questioni legate all’imprenditoria e all’innovazione.
DTSTAMP:20260423T023612
UID:69e9859c2c22b
END:VEVENT
END:VCALENDAR